BEGIN:VCALENDAR
VERSION:2.0
PRODID:-//Tukios.com/
BEGIN:VEVENT
UID:a99de93f-1f26-4d9d-9c8e-e0d11c50b63b@www.schmittfuneralhome.com
DTSTAMP:20260423T002131Z
DTSTART:20260424T164500Z
DTEND:20260424T174500Z
SUMMARY:Burial
DESCRIPTION:
URL:https://www.schmittfuneralhome.com/obituaries/john-saggese
LOCATION: 2015 Wellwood Ave  Farmingdale NY 11735
GEO:40.7359223;-73.4019302
END:VEVENT
END:VCALENDAR