BEGIN:VCALENDAR
VERSION:2.0
PRODID:-//Tukios.com/
BEGIN:VEVENT
UID:fa7e3adf-1020-4f34-932b-78c719bed942@www.schmittfuneralhome.com
DTSTAMP:20260423T003148Z
DTSTART:20260424T151500Z
DTEND:20260424T161500Z
SUMMARY:Mass
DESCRIPTION:
URL:https://www.schmittfuneralhome.com/obituaries/john-saggese
LOCATION: 600 Newbridge Rd  East Meadow NY 11554
GEO:40.7074191;-73.545121
END:VEVENT
END:VCALENDAR